BEGIN:VCALENDAR
VERSION:2.0
PRODID:-//Our Special Marriage - ECPv6.15.20//NONSGML v1.0//EN
CALSCALE:GREGORIAN
METHOD:PUBLISH
X-WR-CALNAME:Our Special Marriage
X-ORIGINAL-URL:https://www.ourspecialmarriage.com
X-WR-CALDESC:Events for Our Special Marriage
REFRESH-INTERVAL;VALUE=DURATION:PT1H
X-Robots-Tag:noindex
X-PUBLISHED-TTL:PT1H
BEGIN:VTIMEZONE
TZID:America/New_York
BEGIN:DAYLIGHT
TZOFFSETFROM:-0500
TZOFFSETTO:-0400
TZNAME:EDT
DTSTART:20170312T070000
END:DAYLIGHT
BEGIN:STANDARD
TZOFFSETFROM:-0400
TZOFFSETTO:-0500
TZNAME:EST
DTSTART:20171105T060000
END:STANDARD
BEGIN:DAYLIGHT
TZOFFSETFROM:-0500
TZOFFSETTO:-0400
TZNAME:EDT
DTSTART:20180311T070000
END:DAYLIGHT
BEGIN:STANDARD
TZOFFSETFROM:-0400
TZOFFSETTO:-0500
TZNAME:EST
DTSTART:20181104T060000
END:STANDARD
BEGIN:DAYLIGHT
TZOFFSETFROM:-0500
TZOFFSETTO:-0400
TZNAME:EDT
DTSTART:20190310T070000
END:DAYLIGHT
BEGIN:STANDARD
TZOFFSETFROM:-0400
TZOFFSETTO:-0500
TZNAME:EST
DTSTART:20191103T060000
END:STANDARD
BEGIN:DAYLIGHT
TZOFFSETFROM:-0500
TZOFFSETTO:-0400
TZNAME:EDT
DTSTART:20200308T070000
END:DAYLIGHT
BEGIN:STANDARD
TZOFFSETFROM:-0400
TZOFFSETTO:-0500
TZNAME:EST
DTSTART:20201101T060000
END:STANDARD
END:VTIMEZONE
BEGIN:VTIMEZONE
TZID:UTC
BEGIN:STANDARD
TZOFFSETFROM:+0000
TZOFFSETTO:+0000
TZNAME:UTC
DTSTART:20170101T000000
END:STANDARD
END:VTIMEZONE
BEGIN:VEVENT
DTSTART;TZID=America/New_York:20190223T090000
DTEND;TZID=America/New_York:20190223T160000
DTSTAMP:20260423T042829
CREATED:20190129T130927Z
LAST-MODIFIED:20190129T130927Z
UID:403-1550912400-1550937600@www.ourspecialmarriage.com
SUMMARY:A Day of Pampering
DESCRIPTION:Laurie will be speaking at\nA Day of Pampering\n       Saturday February 23\, 9am-4pm\nChurch of the Open Door    York\, PA
URL:https://www.ourspecialmarriage.com/event/a-day-of-pampering/
LOCATION:Church of the Open Door\, York\, PA\, 8 Carlisle Court\, York\, PA\, 17408
END:VEVENT
BEGIN:VEVENT
DTSTART;TZID=America/New_York:20181103T180000
DTEND;TZID=America/New_York:20181103T210000
DTSTAMP:20260423T042829
CREATED:20181004T015052Z
LAST-MODIFIED:20181004T015052Z
UID:316-1541268000-1541278800@www.ourspecialmarriage.com
SUMMARY:A Celebration of Special Marriages
DESCRIPTION:We will be speaking at Manor Church in Lancaster\, PA as they host “A Celebration of Special Marriages” dinner event. Please come and join us. Registration is  required by October 26\, 2018. \nThere is no cost to attend. \n  \nCelebration of Special Marriages Announcement
URL:https://www.ourspecialmarriage.com/event/a-celebration-of-special-marriages/
LOCATION:Manor Church\, 530 Central Manor Road\, Lancaster\, PA\, 17601\, United States
ORGANIZER;CN="Christie Hunt":MAILTO:Christieh@manorchurch.org
END:VEVENT
BEGIN:VEVENT
DTSTART;VALUE=DATE:20180731
DTEND;VALUE=DATE:20180801
DTSTAMP:20260423T042829
CREATED:20180615T051913Z
LAST-MODIFIED:20180615T051913Z
UID:45-1532995200-1533081599@www.ourspecialmarriage.com
SUMMARY:Joni & Friends Family Retreat\, Spruce Lake\, PA
DESCRIPTION:Brian and Laurie will be speaking on marriage for couples raising a child with special needs.
URL:https://www.ourspecialmarriage.com/event/joni-friends-family-retreat-spruce-lake-pa-3/
LOCATION:Spruce Lake\, 5389 PA-447\, Canadensis\, 18325\, United States
END:VEVENT
BEGIN:VEVENT
DTSTART;VALUE=DATE:20180626
DTEND;VALUE=DATE:20180627
DTSTAMP:20260423T042829
CREATED:20180615T051819Z
LAST-MODIFIED:20180615T051838Z
UID:42-1529971200-1530057599@www.ourspecialmarriage.com
SUMMARY:Joni & Friends Family Retreat\, Spruce Lake\, PA
DESCRIPTION:Brian and Laurie will be speaking on marriage for couples raising a child with special needs.
URL:https://www.ourspecialmarriage.com/event/joni-friends-family-retreat-spruce-lake-pa-2/
LOCATION:Spruce Lake\, 5389 PA-447\, Canadensis\, 18325\, United States
END:VEVENT
BEGIN:VEVENT
DTSTART;VALUE=DATE:20180619
DTEND;VALUE=DATE:20180620
DTSTAMP:20260423T042829
CREATED:20180615T051454Z
LAST-MODIFIED:20180615T051454Z
UID:39-1529366400-1529452799@www.ourspecialmarriage.com
SUMMARY:Joni & Friends Family Retreat\, Spruce Lake\, PA
DESCRIPTION:Brian and Laurie will be speaking on marriage for couples raising a child with special needs.
URL:https://www.ourspecialmarriage.com/event/joni-friends-family-retreat-spruce-lake-pa/
LOCATION:Spruce Lake\, 5389 PA-447\, Canadensis\, 18325\, United States
END:VEVENT
END:VCALENDAR